BEGIN:VCALENDAR
PRODID:-//AT Content Types//AT Event//EN
VERSION:1.0
BEGIN:VEVENT
DTSTART:20260806T193000Z
DTEND:20260806T203000Z
DCREATED:20260419T101832Z
UID:ATEvent-0a7f169d-5fb7-40a6-b315-32863e604e12
SEQUENCE:0
LAST-MODIFIED:20260419T201840Z
SUMMARY:Refugi Sonor\: Nerobambola
PRIORITY:3
TRANSP:0
END:VEVENT
END:VCALENDAR
