BEGIN:VCALENDAR
PRODID:-//AT Content Types//AT Event//EN
VERSION:1.0
BEGIN:VEVENT
DTSTART:20260801T200000Z
DTEND:20260801T211500Z
DCREATED:20260419T101832Z
UID:ATEvent-5e38357e-e580-480a-bc7a-d634e986f5f3
SEQUENCE:0
LAST-MODIFIED:20260419T201839Z
SUMMARY:"Guitarra coral" \, amb Yeray Cortés
PRIORITY:3
TRANSP:0
END:VEVENT
END:VCALENDAR
