BEGIN:VCALENDAR
PRODID:-//AT Content Types//AT Event//EN
VERSION:1.0
BEGIN:VEVENT
DTSTART:20260226T173000Z
DTEND:20260226T193000Z
DCREATED:20260107T105236Z
UID:ATEvent-ce855a35-89ba-4c7d-bee9-dd2948098748
SEQUENCE:0
LAST-MODIFIED:20260120T130314Z
SUMMARY:Cicle Gaudí\: Romería
PRIORITY:3
TRANSP:0
END:VEVENT
END:VCALENDAR
