BEGIN:VCALENDAR
PRODID:-//AT Content Types//AT Event//EN
VERSION:2.0
METHOD:PUBLISH
BEGIN:VEVENT
DTSTAMP:20260422T172111Z
CREATED:20260220T103443Z
UID:ATEvent-24d98856-0cd3-4420-baad-e212962df412
LAST-MODIFIED:20260220T103450Z
SUMMARY:Concert de Singtònics
DTSTART:20260221T183000Z
DTEND:20260221T200000Z
CATEGORIES:Cultura,Entitats
CLASS:PUBLIC
END:VEVENT
END:VCALENDAR
