BEGIN:VCALENDAR
PRODID:-//AT Content Types//AT Event//EN
VERSION:1.0
BEGIN:VEVENT
DTSTART:20260203T163000Z
DTEND:20260203T173000Z
DCREATED:20260127T073654Z
UID:ATEvent-881d54fb-7c13-458e-baef-bd22ef6171ef
SEQUENCE:0
LAST-MODIFIED:20260127T073844Z
SUMMARY:Concerts de combos
PRIORITY:3
TRANSP:0
END:VEVENT
END:VCALENDAR
