BEGIN:VCALENDAR
PRODID:-//AT Content Types//AT Event//EN
VERSION:2.0
METHOD:PUBLISH
BEGIN:VEVENT
DTSTAMP:20260422T192331Z
CREATED:20260121T130115Z
UID:ATEvent-179ecafd-0e41-4f93-a9ce-e343f21d3c17
LAST-MODIFIED:20260121T130125Z
SUMMARY:Dark Side
DTSTART:20260201T170000Z
DTEND:20260201T200000Z
CLASS:PUBLIC
END:VEVENT
END:VCALENDAR
