BEGIN:VCALENDAR
PRODID:-//AT Content Types//AT Event//EN
VERSION:2.0
METHOD:PUBLISH
BEGIN:VEVENT
DTSTAMP:20260421T020738Z
CREATED:20260216T110317Z
UID:ATEvent-8f353df4-50b9-481b-811e-e5f4fca86e93
LAST-MODIFIED:20260219T071752Z
SUMMARY:Exposició “Llums i ombres de muntanya”\, de Luis Miguel Soriano
DTSTART:20260219T160000Z
DTEND:20260328T190000Z
CATEGORIES:Cultura
CLASS:PUBLIC
END:VEVENT
END:VCALENDAR
