BEGIN:VCALENDAR
PRODID:-//AT Content Types//AT Event//EN
VERSION:2.0
METHOD:PUBLISH
BEGIN:VEVENT
DTSTAMP:20260421T063608Z
CREATED:20260219T103836Z
UID:ATEvent-2fc75ad6-b1f6-4997-83c6-5ce7232ce8c4
LAST-MODIFIED:20260219T104848Z
SUMMARY:Exposició "Teatre de pel·lícula"
DTSTART:20260221T110000Z
DTEND:20260531T180000Z
CATEGORIES:Cultura
CLASS:PUBLIC
END:VEVENT
END:VCALENDAR
