BEGIN:VCALENDAR
PRODID:-//AT Content Types//AT Event//EN
VERSION:2.0
METHOD:PUBLISH
BEGIN:VEVENT
DTSTAMP:20260422T122217Z
CREATED:20260217T083111Z
UID:ATEvent-aea75814-c438-42d3-bb84-43f65e9aa77d
LAST-MODIFIED:20260217T085420Z
SUMMARY:Exposició "Universos secrets"
DTSTART:20260220T180000Z
DTEND:20260308T130000Z
CATEGORIES:Cultura
CLASS:PUBLIC
END:VEVENT
END:VCALENDAR
