BEGIN:VCALENDAR
PRODID:-//AT Content Types//AT Event//EN
VERSION:2.0
METHOD:PUBLISH
BEGIN:VEVENT
DTSTAMP:20260422T075459Z
CREATED:20260121T085302Z
UID:ATEvent-676b2c8b-948f-44a4-b66b-383b483ca7f3
LAST-MODIFIED:20260203T080026Z
SUMMARY:Inauguració\: El camí de l'èxit és l'actitud
DTSTART:20260203T180000Z
DTEND:20260203T190000Z
CATEGORIES:Cultura
CLASS:PUBLIC
END:VEVENT
END:VCALENDAR
