BEGIN:VCALENDAR
PRODID:-//AT Content Types//AT Event//EN
VERSION:2.0
METHOD:PUBLISH
BEGIN:VEVENT
DTSTAMP:20260422T063456Z
CREATED:20260121T130957Z
UID:ATEvent-f26314af-6486-4643-847d-4cb109f4d898
LAST-MODIFIED:20260121T131009Z
SUMMARY:Los Chicos de las Converse
DTSTART:20260206T225500Z
DTEND:20260207T020000Z
CLASS:PUBLIC
END:VEVENT
END:VCALENDAR
