BEGIN:VCALENDAR
PRODID:-//AT Content Types//AT Event//EN
VERSION:1.0
BEGIN:VEVENT
DTSTART:20260222T173000Z
DTEND:20260222T192000Z
DCREATED:20260107T085127Z
UID:ATEvent-01b190d3-d265-4d91-81c3-4344d144c4c4
SEQUENCE:0
LAST-MODIFIED:20260109T130830Z
SUMMARY:Nouvelle Vague
PRIORITY:3
TRANSP:0
END:VEVENT
END:VCALENDAR
