BEGIN:VCALENDAR
PRODID:-//AT Content Types//AT Event//EN
VERSION:2.0
METHOD:PUBLISH
BEGIN:VEVENT
DTSTAMP:20260423T195135Z
CREATED:20260220T105050Z
UID:ATEvent-4469f153-100e-433d-81b2-596e74f3dc3b
LAST-MODIFIED:20260220T105059Z
SUMMARY:Taller d'improvisació\, amb Fernando García-Torres
DTSTART:20260228T090000Z
DTEND:20260228T120000Z
CATEGORIES:tallers,Cultura,Teatre
CLASS:PUBLIC
END:VEVENT
END:VCALENDAR
