BEGIN:VCALENDAR
PRODID:-//AT Content Types//AT Event//EN
VERSION:2.0
METHOD:PUBLISH
BEGIN:VEVENT
DTSTAMP:20260419T215433Z
CREATED:20260112T142318Z
UID:ATEvent-22dfe8a2-bb1e-495f-ac5b-0f18555ec6f1
LAST-MODIFIED:20260112T142325Z
SUMMARY:Concert musical de cançons populars catalanes
DTSTART:20260125T170000Z
DTEND:20260125T183000Z
CLASS:PUBLIC
END:VEVENT
END:VCALENDAR
