BEGIN:VCALENDAR
PRODID:-//AT Content Types//AT Event//EN
VERSION:1.0
BEGIN:VEVENT
DTSTART:20260108T153000Z
DTEND:20260126T203000Z
DCREATED:20260115T084301Z
UID:ATEvent-7041fe6e-3be0-41d8-9307-36c58c271a0e
SEQUENCE:0
LAST-MODIFIED:20260115T084354Z
SUMMARY:Exposició\: "Fragments encadenats"\, de Tomàs Teijeiro
PRIORITY:3
TRANSP:0
END:VEVENT
END:VCALENDAR
