BEGIN:VCALENDAR
PRODID:-//AT Content Types//AT Event//EN
VERSION:1.0
BEGIN:VEVENT
DTSTART:20260131T190000Z
DTEND:20260131T200000Z
DCREATED:20251006T102950Z
UID:ATEvent-ca4bede4-9534-4f26-9e95-8c2049bf97c9
SEQUENCE:0
LAST-MODIFIED:20260130T085425Z
SUMMARY:Outsider
PRIORITY:3
TRANSP:0
END:VEVENT
END:VCALENDAR
