BEGIN:VCALENDAR
PRODID:-//AT Content Types//AT Event//EN
VERSION:1.0
BEGIN:VEVENT
DTSTART:20260322T173000Z
DTEND:20260322T193000Z
DCREATED:20260312T091728Z
UID:ATEvent-70ecaef6-08cc-4b7d-a412-336242bb942f
SEQUENCE:0
LAST-MODIFIED:20260312T091737Z
SUMMARY:44è Festival d’Aniversari de l’Esbart Dansaire de Tarragona
PRIORITY:3
TRANSP:0
END:VEVENT
END:VCALENDAR
