BEGIN:VCALENDAR
PRODID:-//AT Content Types//AT Event//EN
VERSION:2.0
METHOD:PUBLISH
BEGIN:VEVENT
DTSTAMP:20260419T121011Z
CREATED:20260224T101528Z
UID:ATEvent-b57ca873-d712-4fbb-8640-a5f0efd94e05
LAST-MODIFIED:20260309T084420Z
SUMMARY:Café y comedia 
DTSTART:20260315T110000Z
DTEND:20260315T120000Z
CATEGORIES:Teatre
CLASS:PUBLIC
END:VEVENT
END:VCALENDAR
