BEGIN:VCALENDAR
PRODID:-//AT Content Types//AT Event//EN
VERSION:2.0
METHOD:PUBLISH
BEGIN:VEVENT
DTSTAMP:20260423T184218Z
CREATED:20260305T094254Z
UID:ATEvent-ca10d776-d4ac-4b82-be8a-168b7123ba1b
LAST-MODIFIED:20260310T101602Z
SUMMARY:Capsa i Girando por Salas #GPS16\: Txeih Jazz Factory Jazz
DTSTART:20260321T180000Z
DTEND:20260321T194500Z
CATEGORIES:Cultura
CLASS:PUBLIC
END:VEVENT
END:VCALENDAR
