BEGIN:VCALENDAR
PRODID:-//AT Content Types//AT Event//EN
VERSION:2.0
METHOD:PUBLISH
BEGIN:VEVENT
DTSTAMP:20260423T162706Z
CREATED:20260310T093031Z
UID:ATEvent-463512d6-fc35-446a-901d-0a7c879e5fc8
LAST-MODIFIED:20260310T095846Z
SUMMARY:Exposició "No vagis a buscar els infants a l’escola\, encara"\, de Mariona Moncunill
DTSTART:20260327T180000Z
DTEND:20260531T180000Z
CATEGORIES:Cultura
CLASS:PUBLIC
END:VEVENT
END:VCALENDAR
