BEGIN:VCALENDAR
PRODID:-//AT Content Types//AT Event//EN
VERSION:2.0
METHOD:PUBLISH
BEGIN:VEVENT
DTSTAMP:20260419T215927Z
CREATED:20251211T112139Z
UID:ATEvent-f550770a-5cb7-4ab7-902f-0b12b2323ef0
LAST-MODIFIED:20260319T074025Z
SUMMARY:Amics de pedra
DTSTART:20260319T110000Z
DTEND:20260319T120000Z
CATEGORIES:Cultura
CLASS:PUBLIC
END:VEVENT
END:VCALENDAR
