BEGIN:VCALENDAR
PRODID:-//AT Content Types//AT Event//EN
VERSION:2.0
METHOD:PUBLISH
BEGIN:VEVENT
DTSTAMP:20260419T121312Z
CREATED:20251211T112139Z
UID:ATEvent-f227e7f4-d37e-409f-b858-dea9acc59100
LAST-MODIFIED:20251214T083853Z
SUMMARY:Amics de pedra
DTSTART:20260319T170000Z
DTEND:20260319T180000Z
CATEGORIES:Cultura
CLASS:PUBLIC
END:VEVENT
END:VCALENDAR
