BEGIN:VCALENDAR
PRODID:-//AT Content Types//AT Event//EN
VERSION:2.0
METHOD:PUBLISH
BEGIN:VEVENT
DTSTAMP:20260419T193216Z
CREATED:20251211T112139Z
UID:ATEvent-2ef655b1-6b9a-427a-95d6-bced714db4c4
LAST-MODIFIED:20251212T131430Z
SUMMARY:Cantata de La Clika\, 2026
DTSTART:20260420T130000Z
DTEND:20260420T140000Z
CATEGORIES:Cultura,Teatre
CLASS:PUBLIC
END:VEVENT
END:VCALENDAR
