BEGIN:VCALENDAR
PRODID:-//AT Content Types//AT Event//EN
VERSION:2.0
METHOD:PUBLISH
BEGIN:VEVENT
DTSTAMP:20260419T105325Z
CREATED:20251210T134941Z
UID:ATEvent-bf800870-7a4a-4f1c-9454-05b58807ea05
LAST-MODIFIED:20251214T091537Z
SUMMARY:An-Ki
DTSTART:20260411T110000Z
DTEND:20260411T120000Z
CATEGORIES:Famílies,Cultura,Teatre
CLASS:PUBLIC
END:VEVENT
END:VCALENDAR
