BEGIN:VCALENDAR
PRODID:-//AT Content Types//AT Event//EN
VERSION:2.0
METHOD:PUBLISH
BEGIN:VEVENT
DTSTAMP:20260419T121645Z
CREATED:20251211T112139Z
UID:ATEvent-083d89f3-83e6-46f6-8f36-8395e937d147
LAST-MODIFIED:20251216T124853Z
SUMMARY:Lullaby
DTSTART:20260426T100000Z
DTEND:20260426T105000Z
CATEGORIES:Famílies,Cultura,Teatre
CLASS:PUBLIC
END:VEVENT
END:VCALENDAR
