BEGIN:VCALENDAR
PRODID:-//AT Content Types//AT Event//EN
VERSION:1.0
BEGIN:VEVENT
DTSTART:20260419T160000Z
DTEND:20260419T171500Z
DCREATED:20251211T112139Z
UID:ATEvent-cae8ff48-93c1-4c85-bf6e-eff536715bee
SEQUENCE:0
LAST-MODIFIED:20251214T093158Z
SUMMARY:Honestedat
PRIORITY:3
TRANSP:0
END:VEVENT
END:VCALENDAR
