BEGIN:VCALENDAR
PRODID:-//AT Content Types//AT Event//EN
VERSION:1.0
BEGIN:VEVENT
DTSTART:20260505T170000Z
DTEND:20260505T190000Z
DCREATED:20251211T112139Z
UID:ATEvent-881a8f07-4f6d-494e-a983-ebf9e67ee720
SEQUENCE:0
LAST-MODIFIED:20251218T081926Z
SUMMARY:"De la primera mirada a l'últim sospir"\, amb Guillermo Castellano
PRIORITY:3
TRANSP:0
END:VEVENT
END:VCALENDAR
