BEGIN:VCALENDAR
PRODID:-//AT Content Types//AT Event//EN
VERSION:2.0
METHOD:PUBLISH
BEGIN:VEVENT
DTSTAMP:20260420T041827Z
CREATED:20251211T112139Z
UID:ATEvent-61dc1ac5-c6b0-4da6-aa25-1a36e4a37508
LAST-MODIFIED:20251217T134611Z
SUMMARY:"Els nostres músics\, la nostra música"\, amb Hèctor Ruiz i Joan Espuny
DTSTART:20260316T180000Z
DTEND:20260316T200000Z
CATEGORIES:Cultura
CLASS:PUBLIC
END:VEVENT
END:VCALENDAR
