BEGIN:VCALENDAR
PRODID:-//AT Content Types//AT Event//EN
VERSION:1.0
BEGIN:VEVENT
DTSTART:20260421T170000Z
DTEND:20260421T190000Z
DCREATED:20251211T112139Z
UID:ATEvent-e90eb344-94fd-4572-ac65-eb26b5e0148d
SEQUENCE:0
LAST-MODIFIED:20260121T081303Z
SUMMARY:"La versatilitat del vent"\, amb Oxygen Quartet
PRIORITY:3
TRANSP:0
END:VEVENT
END:VCALENDAR
