BEGIN:VCALENDAR
PRODID:-//AT Content Types//AT Event//EN
VERSION:2.0
METHOD:PUBLISH
BEGIN:VEVENT
DTSTAMP:20260420T041633Z
CREATED:20251211T112139Z
UID:ATEvent-c0c2031a-0153-4711-87e5-ecb60a834f19
LAST-MODIFIED:20260309T091151Z
SUMMARY:"Llum i ombra"\, amb Quartet Vivancos
DTSTART:20260310T180000Z
DTEND:20260310T200000Z
CATEGORIES:Cultura
CLASS:PUBLIC
END:VEVENT
END:VCALENDAR
