BEGIN:VCALENDAR
PRODID:-//AT Content Types//AT Event//EN
VERSION:1.0
BEGIN:VEVENT
DTSTART:20260326T180000Z
DTEND:20260326T200000Z
DCREATED:20251211T112139Z
UID:ATEvent-c69afd5a-918b-46c8-bc0f-dc89ead9da36
SEQUENCE:0
LAST-MODIFIED:20251217T134546Z
SUMMARY:Recital de guitarra amb Juan Becerra
PRIORITY:3
TRANSP:0
END:VEVENT
END:VCALENDAR
