BEGIN:VCALENDAR
PRODID:-//AT Content Types//AT Event//EN
VERSION:1.0
BEGIN:VEVENT
DTSTART:20260609T170000Z
DTEND:20260609T190000Z
DCREATED:20251211T112139Z
UID:ATEvent-c792d56d-95a1-4e1b-a2e8-ad10555fb00f
SEQUENCE:0
LAST-MODIFIED:20251218T083342Z
SUMMARY:"Reflexos"\, amb Oriol Estivill i Daniel Ruiz
PRIORITY:3
TRANSP:0
END:VEVENT
END:VCALENDAR
