BEGIN:VCALENDAR
PRODID:-//AT Content Types//AT Event//EN
VERSION:2.0
METHOD:PUBLISH
BEGIN:VEVENT
DTSTAMP:20260420T041626Z
CREATED:20251211T112139Z
UID:ATEvent-b769410c-5f66-4a84-9603-1199209072a1
LAST-MODIFIED:20251218T082831Z
SUMMARY:"Viola de mar"\, amb Carles Blanch & Marc Clos
DTSTART:20260519T170000Z
DTEND:20260519T190000Z
CATEGORIES:Cultura
CLASS:PUBLIC
END:VEVENT
END:VCALENDAR
