BEGIN:VCALENDAR
PRODID:-//AT Content Types//AT Event//EN
VERSION:1.0
BEGIN:VEVENT
DTSTART:20260515T180000Z
DTEND:20260515T200000Z
DCREATED:20251211T112139Z
UID:ATEvent-95ef44d4-2490-4da9-ace5-3e982777efc4
SEQUENCE:0
LAST-MODIFIED:20251216T113026Z
SUMMARY:"La cinquena"\, de Txaikovski
PRIORITY:3
TRANSP:0
END:VEVENT
END:VCALENDAR
