BEGIN:VCALENDAR
PRODID:-//AT Content Types//AT Event//EN
VERSION:1.0
BEGIN:VEVENT
DTSTART:20260606T173000Z
DTEND:20260606T183000Z
DCREATED:20251211T112139Z
UID:ATEvent-59d39560-6063-40a7-942a-27f40871c389
SEQUENCE:0
LAST-MODIFIED:20260113T124352Z
SUMMARY:La Nit dels Premis Literaris\, amb la companyia EIA
PRIORITY:3
TRANSP:0
END:VEVENT
END:VCALENDAR
