BEGIN:VCALENDAR
PRODID:-//AT Content Types//AT Event//EN
VERSION:1.0
BEGIN:VEVENT
DTSTART:20260314T190000Z
DTEND:20260314T205000Z
DCREATED:20251211T112139Z
UID:ATEvent-4a4176da-5e31-4dcb-a03e-6aee63e17be9
SEQUENCE:0
LAST-MODIFIED:20251212T120750Z
SUMMARY:La tempestat
PRIORITY:3
TRANSP:0
END:VEVENT
END:VCALENDAR
