BEGIN:VCALENDAR
PRODID:-//AT Content Types//AT Event//EN
VERSION:2.0
METHOD:PUBLISH
BEGIN:VEVENT
DTSTAMP:20260419T215757Z
CREATED:20260122T080220Z
UID:ATEvent-e18b20a3-fd72-4f04-9ef5-78b01085a547
LAST-MODIFIED:20260122T100951Z
SUMMARY:Mediació en accessibilitat\: La Baldufada
DTSTART:20260509T143000Z
DTEND:20260509T163000Z
CATEGORIES:Cultura
CLASS:PUBLIC
END:VEVENT
END:VCALENDAR
