BEGIN:VCALENDAR
PRODID:-//AT Content Types//AT Event//EN
VERSION:2.0
METHOD:PUBLISH
BEGIN:VEVENT
DTSTAMP:20260419T193647Z
CREATED:20260121T125917Z
UID:ATEvent-c2e3c091-7041-4d71-a2ab-b61158e65817
LAST-MODIFIED:20260122T093538Z
SUMMARY:Mostra de dansa al parc del Francolí
DTSTART:20260418T083000Z
DTEND:20260418T103000Z
CATEGORIES:Cultura
CLASS:PUBLIC
END:VEVENT
END:VCALENDAR
