BEGIN:VCALENDAR
PRODID:-//AT Content Types//AT Event//EN
VERSION:2.0
METHOD:PUBLISH
BEGIN:VEVENT
DTSTAMP:20260419T135004Z
CREATED:20251211T105918Z
UID:ATEvent-b25a2a55-68bc-4f04-ac54-70f2fbe3d4b3
LAST-MODIFIED:20260310T115310Z
SUMMARY:Book is a book is a book
DTSTART:20260319T180000Z
DTEND:20260319T190500Z
CATEGORIES:Lletres,Cultura,Primavera Literària
CLASS:PUBLIC
END:VEVENT
END:VCALENDAR
