BEGIN:VCALENDAR
PRODID:-//AT Content Types//AT Event//EN
VERSION:2.0
METHOD:PUBLISH
BEGIN:VEVENT
DTSTAMP:20260419T134943Z
CREATED:20251211T105918Z
UID:ATEvent-ed57e104-09da-4969-9919-e9fce89fbf02
LAST-MODIFIED:20260310T120046Z
SUMMARY:Book is a book is a book
DTSTART:20260320T210000Z
DTEND:20260320T220500Z
CATEGORIES:Lletres,Cultura,Primavera Literària
CLASS:PUBLIC
END:VEVENT
END:VCALENDAR
