BEGIN:VCALENDAR
PRODID:-//AT Content Types//AT Event//EN
VERSION:2.0
METHOD:PUBLISH
BEGIN:VEVENT
DTSTAMP:20260419T135004Z
CREATED:20251211T105918Z
UID:ATEvent-c2996bd1-c0df-4388-8831-f1e1505498e1
LAST-MODIFIED:20260310T115503Z
SUMMARY:Book is a book is a book
DTSTART:20260321T163000Z
DTEND:20260321T173500Z
CATEGORIES:Lletres,Cultura,Primavera Literària
CLASS:PUBLIC
END:VEVENT
END:VCALENDAR
