BEGIN:VCALENDAR
PRODID:-//AT Content Types//AT Event//EN
VERSION:2.0
METHOD:PUBLISH
BEGIN:VEVENT
DTSTAMP:20260419T134842Z
CREATED:20251211T105918Z
UID:ATEvent-b2b4c3ab-4d20-48bf-9132-5449c6c0bd4f
LAST-MODIFIED:20260310T115539Z
SUMMARY:Book is a book is a book
DTSTART:20260321T190000Z
DTEND:20260321T200500Z
CATEGORIES:Lletres,Cultura,Primavera Literària
CLASS:PUBLIC
END:VEVENT
END:VCALENDAR
