BEGIN:VCALENDAR
PRODID:-//AT Content Types//AT Event//EN
VERSION:2.0
METHOD:PUBLISH
BEGIN:VEVENT
DTSTAMP:20260419T134750Z
CREATED:20251211T105918Z
UID:ATEvent-ea73c860-9dca-4621-b9a6-9e3882b870d2
LAST-MODIFIED:20260305T165422Z
SUMMARY:El sonall
DTSTART:20260307T180000Z
DTEND:20260307T191500Z
CATEGORIES:Teatre
CLASS:PUBLIC
END:VEVENT
END:VCALENDAR
