BEGIN:VCALENDAR
PRODID:-//AT Content Types//AT Event//EN
VERSION:2.0
METHOD:PUBLISH
BEGIN:VEVENT
DTSTAMP:20260419T134819Z
CREATED:20251211T105918Z
UID:ATEvent-4e9b9658-a2f5-4658-a306-dfe23224d0cf
LAST-MODIFIED:20260305T165449Z
SUMMARY:El sonall
DTSTART:20260308T170000Z
DTEND:20260308T181500Z
CATEGORIES:Teatre
CLASS:PUBLIC
END:VEVENT
END:VCALENDAR
