BEGIN:VCALENDAR
PRODID:-//AT Content Types//AT Event//EN
VERSION:1.0
BEGIN:VEVENT
DTSTART:20260425T170000Z
DTEND:20260425T183000Z
DCREATED:20251216T121601Z
UID:ATEvent-b11406e0-83c3-4ae3-92d3-e5328efb441d
SEQUENCE:0
LAST-MODIFIED:20260127T111640Z
SUMMARY:De Rebote
PRIORITY:3
TRANSP:0
END:VEVENT
END:VCALENDAR
