BEGIN:VCALENDAR
PRODID:-//AT Content Types//AT Event//EN
VERSION:2.0
METHOD:PUBLISH
BEGIN:VEVENT
DTSTAMP:20260421T101814Z
CREATED:20251216T121601Z
UID:ATEvent-9510e96b-c142-4e23-ac90-1043b44a6b76
LAST-MODIFIED:20251216T123101Z
SUMMARY:VVV [Trippin’you]
DTSTART:20260307T200000Z
DTEND:20260307T213000Z
CATEGORIES:Cultura
CLASS:PUBLIC
END:VEVENT
END:VCALENDAR
