BEGIN:VCALENDAR
PRODID:-//AT Content Types//AT Event//EN
VERSION:1.0
BEGIN:VEVENT
DTSTART:20260508T180000Z
DTEND:20260508T200000Z
DCREATED:20251211T112139Z
UID:ATEvent-2e6c893f-2f26-462c-b10a-4d51bbc56bde
SEQUENCE:0
LAST-MODIFIED:20251216T105354Z
SUMMARY:Sau\, un concert de pel·lícula
PRIORITY:3
TRANSP:0
END:VEVENT
END:VCALENDAR
