BEGIN:VCALENDAR
PRODID:-//AT Content Types//AT Event//EN
VERSION:2.0
METHOD:PUBLISH
BEGIN:VEVENT
DTSTAMP:20260419T220152Z
CREATED:20251211T112139Z
UID:ATEvent-b2acaaaa-6917-4193-96a2-957158bcc86e
LAST-MODIFIED:20260113T124511Z
SUMMARY:"Trencadís"\, amb Mireia Tarragó\, Òscar Balanyà i la BUMT
DTSTART:20260426T170000Z
DTEND:20260426T183000Z
CATEGORIES:Cultura,Teatre
CLASS:PUBLIC
END:VEVENT
END:VCALENDAR
