BEGIN:VCALENDAR
PRODID:-//AT Content Types//AT Event//EN
VERSION:2.0
METHOD:PUBLISH
BEGIN:VEVENT
DTSTAMP:20260419T180820Z
CREATED:20251211T112139Z
UID:ATEvent-402d3964-6c94-4c04-b003-e46afdbf62b4
LAST-MODIFIED:20251212T120751Z
SUMMARY:Una passió de cinema
DTSTART:20260331T180000Z
DTEND:20260331T191500Z
CATEGORIES:Cultura,Teatre
CLASS:PUBLIC
END:VEVENT
END:VCALENDAR
