BEGIN:VCALENDAR
PRODID:-//AT Content Types//AT Event//EN
VERSION:2.0
METHOD:PUBLISH
BEGIN:VEVENT
DTSTAMP:20260425T114014Z
CREATED:20251212T122237Z
UID:ATEvent-65988560-bdc5-45be-9678-bd0276f9a69e
LAST-MODIFIED:20260312T100844Z
SUMMARY:20è aniversari de la Sant Andreu Jazz Band
DTSTART:20260418T180000Z
DTEND:20260418T191500Z
CATEGORIES:Cultura
CLASS:PUBLIC
END:VEVENT
END:VCALENDAR
